BEGIN:VCALENDAR
VERSION:2.0
PRODID:-// - ECPv6.15.20//NONSGML v1.0//EN
CALSCALE:GREGORIAN
METHOD:PUBLISH
X-ORIGINAL-URL:https://ranilinnaselts.ee
X-WR-CALDESC:Events for 
REFRESH-INTERVAL;VALUE=DURATION:PT1H
X-Robots-Tag:noindex
X-PUBLISHED-TTL:PT1H
BEGIN:VTIMEZONE
TZID:UTC
BEGIN:STANDARD
TZOFFSETFROM:+0000
TZOFFSETTO:+0000
TZNAME:UTC
DTSTART:20250101T000000
END:STANDARD
END:VTIMEZONE
BEGIN:VEVENT
DTSTART;TZID=UTC:20260509T000000
DTEND;TZID=UTC:20260509T235959
DTSTAMP:20260421T091116
CREATED:20251228T181634Z
LAST-MODIFIED:20251228T181742Z
UID:528-1778284800-1778371199@ranilinnaselts.ee
SUMMARY:Teeme ära talgud 2026
DESCRIPTION:
URL:https://ranilinnaselts.ee/event/teeme-ara-talgud-2026/
LOCATION:Ränilinn
END:VEVENT
BEGIN:VEVENT
DTSTART;TZID=UTC:20260913T100000
DTEND;TZID=UTC:20260913T140000
DTSTAMP:20260421T091116
CREATED:20251228T181853Z
LAST-MODIFIED:20251228T181853Z
UID:531-1789293600-1789308000@ranilinnaselts.ee
SUMMARY:Vanavanemate päev 2026
DESCRIPTION:
URL:https://ranilinnaselts.ee/event/vanavanemate-paev-2026/
END:VEVENT
END:VCALENDAR